BEGIN:VCALENDAR
VERSION:2.0
PRODID:-//Cambrian College Teaching &amp; Learning Innovation Hub - ECPv6.15.20//NONSGML v1.0//EN
CALSCALE:GREGORIAN
METHOD:PUBLISH
X-ORIGINAL-URL:https://teaching.cambriancollege.ca
X-WR-CALDESC:Events for Cambrian College Teaching &amp; Learning Innovation Hub
REFRESH-INTERVAL;VALUE=DURATION:PT1H
X-Robots-Tag:noindex
X-PUBLISHED-TTL:PT1H
BEGIN:VTIMEZONE
TZID:America/Toronto
BEGIN:DAYLIGHT
TZOFFSETFROM:-0500
TZOFFSETTO:-0400
TZNAME:EDT
DTSTART:20250309T070000
END:DAYLIGHT
BEGIN:STANDARD
TZOFFSETFROM:-0400
TZOFFSETTO:-0500
TZNAME:EST
DTSTART:20251102T060000
END:STANDARD
BEGIN:DAYLIGHT
TZOFFSETFROM:-0500
TZOFFSETTO:-0400
TZNAME:EDT
DTSTART:20260308T070000
END:DAYLIGHT
BEGIN:STANDARD
TZOFFSETFROM:-0400
TZOFFSETTO:-0500
TZNAME:EST
DTSTART:20261101T060000
END:STANDARD
BEGIN:DAYLIGHT
TZOFFSETFROM:-0500
TZOFFSETTO:-0400
TZNAME:EDT
DTSTART:20270314T070000
END:DAYLIGHT
BEGIN:STANDARD
TZOFFSETFROM:-0400
TZOFFSETTO:-0500
TZNAME:EST
DTSTART:20271107T060000
END:STANDARD
END:VTIMEZONE
BEGIN:VEVENT
DTSTART;TZID=America/Toronto:20260512T093000
DTEND;TZID=America/Toronto:20260512T110000
DTSTAMP:20260422T134230
CREATED:20250703T200839Z
LAST-MODIFIED:20250903T195650Z
UID:10000450-1778578200-1778583600@teaching.cambriancollege.ca
SUMMARY:Assessment Design in the Age of AI: A Hands-On Workshop
DESCRIPTION:Assessment Design in the Age of AI: A Hands-On Workshop\nIn an educational landscape transformed by generative AI\, how can we ensure our assessments remain meaningful\, ethical\, and aligned with learning outcomes? This interactive workshop invites faculty to explore the capabilities and limitations of AI tools like Microsoft Copilot and ChatGPT by putting their own assessments to the test. Through case studies\, collaborative reflection\, and AI-enabled analysis\, participants will critically evaluate and redesign one of their existing assessments to better promote academic integrity\, creativity\, and deep learning. Walk away with practical strategies and tools to build AI-resilient assessments that support authentic student success. \n*** Bring an assessment (not a test/quiz) that you would like to rebuild to be more AI-resilient. \nFacilitated By\nMel Young | Educational Developer\,  Teaching and Learning Innovation Hub\nJessica Joy | Manager\, Academic Integrity and Copyright\, Academic Integrity Office\nMeeting Details\n📅 Date: May 12th\, 2026| Time: 9:30am to 11:00am \n📍 Join in-person in the Hub Classroom (Room 1271-B) \nRegistration Information 
URL:https://teaching.cambriancollege.ca/event/assessment-design-in-the-age-of-ai-a-hands-on-workshop-3/
LOCATION:Hub Classroom | 1271B
ATTACH;FMTTYPE=image/jpeg:https://teaching.cambriancollege.ca/wp-content/uploads/2023/11/markus-winkler-tGBXiHcPKrM-unsplash-scaled.jpg
END:VEVENT
END:VCALENDAR