BEGIN:VCALENDAR
VERSION:2.0
PRODID:-//Cambrian College Teaching &amp; Learning Innovation Hub - ECPv6.15.20//NONSGML v1.0//EN
CALSCALE:GREGORIAN
METHOD:PUBLISH
X-ORIGINAL-URL:https://teaching.cambriancollege.ca
X-WR-CALDESC:Events for Cambrian College Teaching &amp; Learning Innovation Hub
REFRESH-INTERVAL;VALUE=DURATION:PT1H
X-Robots-Tag:noindex
X-PUBLISHED-TTL:PT1H
BEGIN:VTIMEZONE
TZID:America/Toronto
BEGIN:DAYLIGHT
TZOFFSETFROM:-0500
TZOFFSETTO:-0400
TZNAME:EDT
DTSTART:20230312T070000
END:DAYLIGHT
BEGIN:STANDARD
TZOFFSETFROM:-0400
TZOFFSETTO:-0500
TZNAME:EST
DTSTART:20231105T060000
END:STANDARD
BEGIN:DAYLIGHT
TZOFFSETFROM:-0500
TZOFFSETTO:-0400
TZNAME:EDT
DTSTART:20240310T070000
END:DAYLIGHT
BEGIN:STANDARD
TZOFFSETFROM:-0400
TZOFFSETTO:-0500
TZNAME:EST
DTSTART:20241103T060000
END:STANDARD
BEGIN:DAYLIGHT
TZOFFSETFROM:-0500
TZOFFSETTO:-0400
TZNAME:EDT
DTSTART:20250309T070000
END:DAYLIGHT
BEGIN:STANDARD
TZOFFSETFROM:-0400
TZOFFSETTO:-0500
TZNAME:EST
DTSTART:20251102T060000
END:STANDARD
END:VTIMEZONE
BEGIN:VEVENT
DTSTART;TZID=America/Toronto:20240125T123000
DTEND;TZID=America/Toronto:20240125T140000
DTSTAMP:20260421T134948
CREATED:20240116T183623Z
LAST-MODIFIED:20240122T130228Z
UID:10000307-1706185800-1706191200@teaching.cambriancollege.ca
SUMMARY:Pop-Up Hub: Library and Learning Commons
DESCRIPTION:Join the Teaching and Learning Innovation Hub – roadshow-style – as we travel across the Cambrian College campus!  \nGet to know areas of the college that support your professional career at Cambrian College. See the places and meet the people who are here to support your growth\, interests\, and curiosity. There’s so much available for you at the college so pop in\, join us\, ask questions\, and get to know your college. There will also be snacks and light refreshments for you to enjoy.  \nFirst Stop: Library and Learning Commons\nOur first stop is the Library and Learning Commons (LCC) in room 3021D on Thursday January 25th between 12:30 and 2:00pm.   \nIf you are interested in… \n\nGetting started with research and launching your scholarly publishing pursuits\,\nSeeing what resources we have available for learning (and for fun!)\,\nLearning about alternative course materials and Open Educational Resources\, and/or\nFinding out what the LLC can offer your students\n\n… then join the Hub and LCC team for our first-ever Pop-Up event! \nPlease click the button below to register for this session or just drop-in! 
URL:https://teaching.cambriancollege.ca/event/pop-up-hub-library/
LOCATION:Cambrian Library – Room 3021D
CATEGORIES:Attend In-Person
ORGANIZER;CN="Cynthia Booth":MAILTO:cynthia.booth@cambriancollege.ca
END:VEVENT
BEGIN:VEVENT
DTSTART;TZID=America/Toronto:20240124T160000
DTEND;TZID=America/Toronto:20240124T170000
DTSTAMP:20260421T134948
CREATED:20240120T210930Z
LAST-MODIFIED:20240120T210930Z
UID:10000309-1706112000-1706115600@teaching.cambriancollege.ca
SUMMARY:Bringing AI Literacy to the Higher Ed Institution [External]
DESCRIPTION:Within the debate over the role of AI in the present and future of learning\, a wide range of valid concerns and enthusiasm can sometimes mask a fundamental truth: AI is dramatically changing teaching and learning and will continue to do so in future years. How should institutions work with their varied stakeholders to ensure they are fully considering the pitfalls and promises of new AI technologies in ways that lead to more effective learning and institutional outcomes? \nJoin Grammarly for Education as we learn about one institution’s attempt to raise the AI literacy of everyone they employ and educate. Dr. Leo Lo\, Dean and Professor of the College of University Libraries and Learning Services\, leads the University of New Mexico’s AI Empowerment Initiative. The initiative aims to enhance AI literacy across the university to ensure responsible and effective use. In this wide-ranging fireside chat\, we will hear how UNM is approaching AI literacy at scale\, encompassing faculty training\, evaluation criteria\, academic integrity guidelines\, and new courses for non-technical students. This webinar is ideal for any decision-maker\, faculty member\, or educator grappling with how to implement a thoughtful AI policy that considers the full spectrum of benefits and challenges. \nREGISTER HERE
URL:https://teaching.cambriancollege.ca/event/bringing-ai-literacy-to-the-higher-ed-institution-external/
LOCATION:Online
END:VEVENT
BEGIN:VEVENT
DTSTART;TZID=America/Toronto:20240123T120000
DTEND;TZID=America/Toronto:20240123T130000
DTSTAMP:20260421T134948
CREATED:20240122T154228Z
LAST-MODIFIED:20240122T154228Z
UID:10000310-1706011200-1706014800@teaching.cambriancollege.ca
SUMMARY:Exploring the Open Library Catalogue [External]
DESCRIPTION:The Open Library is hosting three drop-in support sessions for the winter semester. These live sessions will help educators and Integrating OER Program participants with the use of Open Educational Resources (OER). \neCampusOntario invites all faculty and staff who are interested in engaging with the Open Library’s tools\, platforms\, and resources to join us for these fun and friendly support sessions. Librarians are available to help you with any questions you may have. \nREGISTER HERE
URL:https://teaching.cambriancollege.ca/event/exploring-the-open-library-catalogue-external/
LOCATION:Online
END:VEVENT
BEGIN:VEVENT
DTSTART;TZID=America/Toronto:20240123T100000
DTEND;TZID=America/Toronto:20240123T113000
DTSTAMP:20260421T134948
CREATED:20240105T134255Z
LAST-MODIFIED:20240112T184408Z
UID:10000303-1706004000-1706009400@teaching.cambriancollege.ca
SUMMARY:Tech Tuesday Roadshow (Rm. 4054)
DESCRIPTION:The Hub is taking Tech Tuesdays on the road! Drop in any time between 10:00 and 11:30 AM to chat with us about your technology tips\, tricks\, and questions! \nLocation: Room 4054 \nThis month\, we’re showcasing a setting for Moodle Quizzes that allows you to “block concurrent connections”. This prevents simultaneous logins by stopping a second login from the same student while they are writing a quiz. After the setting is enabled\, it prevents anyone else from logging in as the student from a different computer\, device\, or browser. This is a great way to help maintain academic integrity for Moodle quizzes. \nThis session is a drop-in\, and no registration is required. Stop by any time between 11-1 to see how to enable this new setting\, or to chat about assessments and academic integrity in general. See you then!
URL:https://teaching.cambriancollege.ca/event/tech-tuesday-roadshow-jacs-edition/
END:VEVENT
BEGIN:VEVENT
DTSTART;TZID=America/Toronto:20240122T110000
DTEND;TZID=America/Toronto:20240122T130000
DTSTAMP:20260421T134948
CREATED:20240102T161444Z
LAST-MODIFIED:20240102T161444Z
UID:10000297-1705921200-1705928400@teaching.cambriancollege.ca
SUMMARY:AI-Resilient Assessments (Drop-In)
DESCRIPTION:Bring your tired and weary evaluations for a refresh! \nJoin Chris and Cynthia for a drop-in session from 11 a.m. – 1 p.m. to explore ways to rework your assessments to make them more naturally authentic and AI resilient. We will be in the Hub Kitchen with coffee brewing ☕ to help us get our brainstorm on. \n🗓️ No need to RSVP; just come on down!
URL:https://teaching.cambriancollege.ca/event/ai-resilient-assessments-drop-in-3/
LOCATION:Hub Kitchen (1271)
ORGANIZER;CN="Cambrian College's Teaching and Learning Innovation Hub":MAILTO:teaching@cambriancollege.ca
END:VEVENT
BEGIN:VEVENT
DTSTART;TZID=America/Toronto:20240117T120000
DTEND;TZID=America/Toronto:20240117T130000
DTSTAMP:20260421T134948
CREATED:20231213T200419Z
LAST-MODIFIED:20241202T150214Z
UID:10000289-1705492800-1705496400@teaching.cambriancollege.ca
SUMMARY:Artificial Intelligence Community of Practice (AI CoP)
DESCRIPTION:Join with other faculty in our continued discussion on the use of AI and how it impacts our classes\, our students\, and our own work in this CoP  lead by Jessica Joy. \nAs promised from our first session there will be time for a show and tell …  bring your experiences\, best practice tips and share with us your learning as you dive into AI! \nStill not sure what an A.I. CoP is? \nCambrian’s Artificial Intelligence Community of Practice aims to bring together faculty from all disciplines to discuss and explore the role of artificial intelligence in education. The focus will be on practical topics such as how to responsibly use AI in the classroom\, the implications of AI for learning assessment\, and what kind of design principles should be considered. Faculty members will have the opportunity to share their experiences of using AI in their courses and to learn from each other. The group will also address the need for increasing digital literacy about AI among faculty and discuss current trends and developments in the field. Whether you’re an AI enthusiast\, a seasoned AI expert\, or simply curious about AI’s potential in education\, this group is the perfect platform for you to engage with like-minded colleagues and stay at the forefront of AI developments. \nOur Objectives \n\nCreate a space for faculty to share experiences\, challenges\, stories and strategies around AI\nEnable a dialogue across disciplines\, departments\, and faculties\nShare updates and news related to AI in education\nPromote digital literacy about AI among faculty\nReview current professional development activities in AI\nExamine the ethical and academic implications of using AI in education\n\nWhile we would love to see you in person in the Hub (Room 1271-B)\, we also welcome you to join us on Zoom! https://cambriancollege.zoom.us/j/97087294834  \nPlease click the button below to register for this session.
URL:https://teaching.cambriancollege.ca/event/artificial-intelligence-community-of-practice-ai-cop/
CATEGORIES:Communities of Practice
ORGANIZER;CN="Jessica Joy":MAILTO:Jessica.Joy@cambriancollege.ca
END:VEVENT
BEGIN:VEVENT
DTSTART;TZID=America/Toronto:20240116T140000
DTEND;TZID=America/Toronto:20240116T153000
DTSTAMP:20260421T134948
CREATED:20240110T203718Z
LAST-MODIFIED:20240110T203718Z
UID:10000306-1705413600-1705419000@teaching.cambriancollege.ca
SUMMARY:The Creative and Ethical Use of Artificial Intelligence (AI) in Post-Secondary Education – a B.C. Perspective [External]
DESCRIPTION:BCcampus — In the spring of 2023\, we brought the sector together to discuss Artificial Intelligence (AI) in post-secondary education. So much has changed\, and yet\, so many of the same questions and concerns persist. Diving deeper\, our panelists will discuss the creative and ethical use of Artificial Intelligence in post-secondary education. Join us as we explore the different paths we can take through our new academic landscape. You’ll leave this panel discussion with a list of resources related to actionable recommendations for ethical integration of GenAI in higher education. \nRegistration
URL:https://teaching.cambriancollege.ca/event/the-creative-and-ethical-use-of-artificial-intelligence-ai-in-post-secondary-education-a-b-c-perspective-external/
LOCATION:Online
END:VEVENT
BEGIN:VEVENT
DTSTART;TZID=America/Toronto:20240116T110000
DTEND;TZID=America/Toronto:20240116T130000
DTSTAMP:20260421T134948
CREATED:20240105T134221Z
LAST-MODIFIED:20240112T184237Z
UID:10000302-1705402800-1705410000@teaching.cambriancollege.ca
SUMMARY:Tech Tuesday Roadshow (Rm. 3117)
DESCRIPTION:The Hub is taking Tech Tuesdays on the road! Drop in any time between 11:00 AM – 1:00 PM and chat with us about technology tips\, tricks\, and questions! \nLocation: Room 3117 \nThis month\, we’re showcasing a setting for Moodle Quizzes that allows you to “block concurrent connections”. This prevents simultaneous logins by stopping a second login from the same student while they are writing a quiz. After the setting is enabled\, it prevents anyone else from logging in as the student from a different computer\, device\, or browser. This is a great way to help maintain academic integrity for Moodle quizzes. \nThis session is a drop-in\, and no registration is required. Stop by any time between 11:00 AM – 1:00 PM to see how to enable this new setting\, or to chat about assessments and academic integrity in general. See you then!
URL:https://teaching.cambriancollege.ca/event/tech-tuesday-roadshow-business-it-creative-arts-edition/
END:VEVENT
BEGIN:VEVENT
DTSTART;TZID=America/Toronto:20240116T110000
DTEND;TZID=America/Toronto:20240116T130000
DTSTAMP:20260421T134948
CREATED:20240102T161334Z
LAST-MODIFIED:20240102T161334Z
UID:10000296-1705402800-1705410000@teaching.cambriancollege.ca
SUMMARY:AI-Resilient Assessments (Drop-In)
DESCRIPTION:Bring your tired and weary evaluations for a refresh! \nJoin Chris and Cynthia for a drop-in session from 11 a.m. – 1 p.m. to explore ways to rework your assessments to make them more naturally authentic and AI resilient. We will be in the Hub Kitchen with coffee brewing ☕ to help us get our brainstorm on. \n🗓️ No need to RSVP; just come on down!
URL:https://teaching.cambriancollege.ca/event/ai-resilient-assessments-drop-in-2/
LOCATION:Hub Kitchen (1271)
ORGANIZER;CN="Cambrian College's Teaching and Learning Innovation Hub":MAILTO:teaching@cambriancollege.ca
END:VEVENT
BEGIN:VEVENT
DTSTART;TZID=America/Toronto:20240111T110000
DTEND;TZID=America/Toronto:20240111T130000
DTSTAMP:20260421T134948
CREATED:20240102T160931Z
LAST-MODIFIED:20240102T160942Z
UID:10000295-1704970800-1704978000@teaching.cambriancollege.ca
SUMMARY:AI-Resilient Assessments (Drop-In)
DESCRIPTION:Bring your tired and weary evaluations for a refresh! \nJoin Chris and Cynthia for a drop-in session from 11 a.m. – 1 p.m. to explore ways to rework your assessments to make them more naturally authentic and AI resilient. We will be in the Hub Kitchen with coffee brewing ☕ to help us get our brainstorm on. \n🗓️ No need to RSVP; just come on down!\n \n 
URL:https://teaching.cambriancollege.ca/event/ai-resilient-assessments-drop-in/
LOCATION:Hub Kitchen (1271)
ORGANIZER;CN="Cambrian College's Teaching and Learning Innovation Hub":MAILTO:teaching@cambriancollege.ca
END:VEVENT
BEGIN:VEVENT
DTSTART;TZID=America/Toronto:20240109T110000
DTEND;TZID=America/Toronto:20240109T130000
DTSTAMP:20260421T134948
CREATED:20240105T133259Z
LAST-MODIFIED:20240112T184119Z
UID:10000301-1704798000-1704805200@teaching.cambriancollege.ca
SUMMARY:Tech Tuesday Roadshow (Rm. 1711)
DESCRIPTION:The Hub is taking Tech Tuesdays on the road! Drop in any time between 11:00 AM – 1:00 PM and chat with us about technology tips\, tricks\, and questions! \nLocation: Room 1711 \nThis month\, we’re showcasing a setting for Moodle Quizzes that allows you to “block concurrent connections”. This prevents simultaneous logins by stopping a second login from the same student while they are writing a quiz. After the setting is enabled\, it prevents anyone else from logging in as the student from a different computer\, device\, or browser. This is a great way to help maintain academic integrity for Moodle quizzes. \nThis session is a drop-in\, and no registration is required. Stop by room 1711 any time between 11:00 AM – 1:00 PM to see how to enable this new setting\, or to chat about assessments and academic integrity in general. See you then!
URL:https://teaching.cambriancollege.ca/event/tech-tuesday-roadshow-trades-technology-edition/
END:VEVENT
BEGIN:VEVENT
DTSTART;TZID=America/Toronto:20240104T180000
DTEND;TZID=America/Toronto:20240104T200000
DTSTAMP:20260421T134948
CREATED:20231218T133459Z
LAST-MODIFIED:20231218T133459Z
UID:10000294-1704391200-1704398400@teaching.cambriancollege.ca
SUMMARY:Contract Faculty Orientation
DESCRIPTION:Come one\, come all contract faculty to learn some basic and advanced teaching and tech tips to ground yourself as you gear up for your first semester or another semester of teaching at Cambrian. \nJoin Cynthia and Chris as they orient you to practices of course development from building a syllabus\, to development lessons and assessments to navigating Moodle and egrades. \nSee you in person or by zoom in Room 1271B or virtually at https://cambriancollege.zoom.us/j/97087294834 \nUse the button below to register!
URL:https://teaching.cambriancollege.ca/event/contract-faculty-orientation-3/
LOCATION:Hub Classroom | 1271B
END:VEVENT
END:VCALENDAR