BEGIN:VCALENDAR
VERSION:2.0
PRODID:-//Cambrian College Teaching &amp; Learning Innovation Hub - ECPv6.15.20//NONSGML v1.0//EN
CALSCALE:GREGORIAN
METHOD:PUBLISH
X-ORIGINAL-URL:https://teaching.cambriancollege.ca
X-WR-CALDESC:Events for Cambrian College Teaching &amp; Learning Innovation Hub
REFRESH-INTERVAL;VALUE=DURATION:PT1H
X-Robots-Tag:noindex
X-PUBLISHED-TTL:PT1H
BEGIN:VTIMEZONE
TZID:America/Toronto
BEGIN:DAYLIGHT
TZOFFSETFROM:-0500
TZOFFSETTO:-0400
TZNAME:EDT
DTSTART:20240310T070000
END:DAYLIGHT
BEGIN:STANDARD
TZOFFSETFROM:-0400
TZOFFSETTO:-0500
TZNAME:EST
DTSTART:20241103T060000
END:STANDARD
BEGIN:DAYLIGHT
TZOFFSETFROM:-0500
TZOFFSETTO:-0400
TZNAME:EDT
DTSTART:20250309T070000
END:DAYLIGHT
BEGIN:STANDARD
TZOFFSETFROM:-0400
TZOFFSETTO:-0500
TZNAME:EST
DTSTART:20251102T060000
END:STANDARD
BEGIN:DAYLIGHT
TZOFFSETFROM:-0500
TZOFFSETTO:-0400
TZNAME:EDT
DTSTART:20260308T070000
END:DAYLIGHT
BEGIN:STANDARD
TZOFFSETFROM:-0400
TZOFFSETTO:-0500
TZNAME:EST
DTSTART:20261101T060000
END:STANDARD
END:VTIMEZONE
BEGIN:VEVENT
DTSTART;TZID=America/Toronto:20251029T090000
DTEND;TZID=America/Toronto:20251029T110000
DTSTAMP:20260418T125617
CREATED:20251022T145202Z
LAST-MODIFIED:20251022T194041Z
UID:10000469-1761728400-1761735600@teaching.cambriancollege.ca
SUMMARY:Waffleween Wednesday
DESCRIPTION:Drop by the Hub any time between 9:00 AM and 11:00 AM for a treat! \nWaffle Wednesday but Spooky version! 👻🧇 \nA casual drop-in for faculty and staff to enjoy some freshly-made waffles. Fly on by 🦇 for a tasty treat and catch up with your colleagues. 🧟🧛🏻‍♂️🧙🏻‍♀️ \nFacilitated By\n\nMeeting Details\n Date: October 29th\, 2025 | Time: 9:00am to 11:00am \n Join in-person in the Hub Kitchen
URL:https://teaching.cambriancollege.ca/event/waffleween-wednesday/
LOCATION:Hub Kitchen (1271)
CATEGORIES:Waffle Wednesday
END:VEVENT
END:VCALENDAR