BEGIN:VCALENDAR
VERSION:2.0
PRODID:-//Cambrian College Teaching &amp; Learning Innovation Hub - ECPv6.15.20//NONSGML v1.0//EN
CALSCALE:GREGORIAN
METHOD:PUBLISH
X-ORIGINAL-URL:https://teaching.cambriancollege.ca
X-WR-CALDESC:Events for Cambrian College Teaching &amp; Learning Innovation Hub
REFRESH-INTERVAL;VALUE=DURATION:PT1H
X-Robots-Tag:noindex
X-PUBLISHED-TTL:PT1H
BEGIN:VTIMEZONE
TZID:America/Toronto
BEGIN:DAYLIGHT
TZOFFSETFROM:-0500
TZOFFSETTO:-0400
TZNAME:EDT
DTSTART:20250309T070000
END:DAYLIGHT
BEGIN:STANDARD
TZOFFSETFROM:-0400
TZOFFSETTO:-0500
TZNAME:EST
DTSTART:20251102T060000
END:STANDARD
BEGIN:DAYLIGHT
TZOFFSETFROM:-0500
TZOFFSETTO:-0400
TZNAME:EDT
DTSTART:20260308T070000
END:DAYLIGHT
BEGIN:STANDARD
TZOFFSETFROM:-0400
TZOFFSETTO:-0500
TZNAME:EST
DTSTART:20261101T060000
END:STANDARD
BEGIN:DAYLIGHT
TZOFFSETFROM:-0500
TZOFFSETTO:-0400
TZNAME:EDT
DTSTART:20270314T070000
END:DAYLIGHT
BEGIN:STANDARD
TZOFFSETFROM:-0400
TZOFFSETTO:-0500
TZNAME:EST
DTSTART:20271107T060000
END:STANDARD
END:VTIMEZONE
BEGIN:VEVENT
DTSTART;TZID=America/Toronto:20260107T173000
DTEND;TZID=America/Toronto:20260107T193000
DTSTAMP:20260420T092219
CREATED:20250704T180128Z
LAST-MODIFIED:20260106T185851Z
UID:10000462-1767807000-1767814200@teaching.cambriancollege.ca
SUMMARY:Contract Faculty Orientation: Winter 2026
DESCRIPTION:Welcome\, New Faculty!\nThis orientation session will help you become familiar with the resources and supports available to you as a new faculty member\, and teach you how to access what you need to get started with your courses. It is intended for contract faculty that are teaching at Cambrian for the first time. \nNote: Your academic school may schedule a separate orientation session. Please check your email for additional information from your department. \nFacilitated By\n\nAgenda\n\nCourse Outline\, Syllabus\, and Lesson Planning\nAssessments and Accommodations\nMoodle\, eGrades\, and myCambrian\nClassroom and Digital Technologies\nTeaching & Learning Innovation Hub Resources\nQuestion & Answer Period\n\nMeeting Details\n📅 Date: January 7th\, 2026 | Time: 5:30pm – 7:30pm \n📍 Join in-person: Room 1414 \n💻 Join via Microsoft Teams \n 
URL:https://teaching.cambriancollege.ca/event/contract-faculty-orientation-winter-2026/
CATEGORIES:Orientation
ATTACH;FMTTYPE=image/jpeg:https://teaching.cambriancollege.ca/wp-content/uploads/2020/01/dylan-gillis-KdeqA3aTnBY-unsplash-scaled.jpg
END:VEVENT
END:VCALENDAR