BEGIN:VCALENDAR
VERSION:2.0
PRODID:-//Cambrian College Teaching &amp; Learning Innovation Hub - ECPv6.15.20//NONSGML v1.0//EN
CALSCALE:GREGORIAN
METHOD:PUBLISH
X-ORIGINAL-URL:https://teaching.cambriancollege.ca
X-WR-CALDESC:Events for Cambrian College Teaching &amp; Learning Innovation Hub
REFRESH-INTERVAL;VALUE=DURATION:PT1H
X-Robots-Tag:noindex
X-PUBLISHED-TTL:PT1H
BEGIN:VTIMEZONE
TZID:America/Toronto
BEGIN:DAYLIGHT
TZOFFSETFROM:-0500
TZOFFSETTO:-0400
TZNAME:EDT
DTSTART:20250309T070000
END:DAYLIGHT
BEGIN:STANDARD
TZOFFSETFROM:-0400
TZOFFSETTO:-0500
TZNAME:EST
DTSTART:20251102T060000
END:STANDARD
BEGIN:DAYLIGHT
TZOFFSETFROM:-0500
TZOFFSETTO:-0400
TZNAME:EDT
DTSTART:20260308T070000
END:DAYLIGHT
BEGIN:STANDARD
TZOFFSETFROM:-0400
TZOFFSETTO:-0500
TZNAME:EST
DTSTART:20261101T060000
END:STANDARD
BEGIN:DAYLIGHT
TZOFFSETFROM:-0500
TZOFFSETTO:-0400
TZNAME:EDT
DTSTART:20270314T070000
END:DAYLIGHT
BEGIN:STANDARD
TZOFFSETFROM:-0400
TZOFFSETTO:-0500
TZNAME:EST
DTSTART:20271107T060000
END:STANDARD
END:VTIMEZONE
BEGIN:VEVENT
DTSTART;TZID=America/Toronto:20260305T100000
DTEND;TZID=America/Toronto:20260305T153000
DTSTAMP:20260423T165718
CREATED:20260302T201450Z
LAST-MODIFIED:20260302T201528Z
UID:10000488-1772704800-1772724600@teaching.cambriancollege.ca
SUMMARY:[External] CAELL’s Professional Development Opportunities - PD Symposium
DESCRIPTION:  \nREGISTER HERE \nPD Symposium is being held on Thursday\, March 5th\, 2026\, and focuses on Assessments. Below is a list of the sessions that will be offered throughout the day. This semesters symposium brings together our peers from all Northern Ontario colleges (College Boreal\, Cambrian College\, Confederation College\, Northern College and Sault College).   \nCheck out PD Opportunities for session details! \n\n\n\n10:00-10:50am\nKeynote: Authentic Assessment: Designing Learning that Matters with Dr. Laura Killam (MS Teams; D309)\n\n\n11:00-11:50am\nMoving Minds Sessions (in-person\, D309) \n \n\n\n12:00-12:50pm\nLunch (Knowledge Cafe)\n\n\n1:00-1:25pm\nTentative – Using AI to Support Deeper Learning in Student Assessment with Ryan Carbone\, Northern College (MS Teams; D309)\n\n\n1:30-1:55pm\nConsidering Flexible Deadlines with Jennifer Huggins & Susan Klooster\, Northern College (MS Teams; D309)\n\n\n2:00-2:25pm\nIntroducing AI to Students with Jennifer Upton\, Canadore College (MS Teams; D309)\n\n\n2:30-2:55pm\nBeyond the Bot: Rethinking Teaching in the Age of AI with Josh Sullivan\, Canadore College (MS Teams; D309)\n\n\n3:00- 3:25pm\nDeveloping Professional Accountability Through Sofvie with Jeff Lafortune\, College Boreal (MS Teams; D309)
URL:https://teaching.cambriancollege.ca/event/external-caells-professional-development-opportunities-pd-symposium/
LOCATION:Join Virtually Online
CATEGORIES:Attend Virtually Online
END:VEVENT
BEGIN:VEVENT
DTSTART;TZID=America/Toronto:20260318T140000
DTEND;TZID=America/Toronto:20260318T153000
DTSTAMP:20260423T165718
CREATED:20260309T194920Z
LAST-MODIFIED:20260309T195537Z
UID:10000490-1773842400-1773847800@teaching.cambriancollege.ca
SUMMARY:[External] ICAI Canadian Consortium Academic Integrity Speaker Series
DESCRIPTION:  \nREGISTER HERE \nCuriosity to Integrity: Lessons from the AI Hub Initiative \nIn this interactive session\, Dr. Victoria Chen shares insights from the AI Hub\, a peer-led campus initiative that engaged over 500 students\, instructors\, and staG in open\, hands-on conversations about ethical AI use. Participants will explore what the AI Hub revealed about student fears\, misconceptions\, and integrity concerns around AI. The session will integrate interactive activities used at the AI Hub to demonstrate how hands-on exploration supports integrity in learning. Attendees will gain practical\, low barrier strategies for fostering AI literacy and integrity culture on their own campuses. \nDr. Victoria Chen is an Academic Technology Specialist at the University of\nGuelph-Humber\, where she leads initiatives that explore ethical\, accessible\,\nand practical approaches to AI in education. She founded the AI Hub\, a peerled\nmodel that engages students\, instructors\, and staG in hands-on AI\nliteracy and integrity conversations.
URL:https://teaching.cambriancollege.ca/event/external-icai-canadian-consortium-academic-integrity-speaker-series/
LOCATION:Join Virtually Online
CATEGORIES:Attend Virtually Online
END:VEVENT
BEGIN:VEVENT
DTSTART;VALUE=DATE:20260511
DTEND;VALUE=DATE:20260512
DTSTAMP:20260423T165718
CREATED:20260408T130603Z
LAST-MODIFIED:20260408T130603Z
UID:10000492-1778457600-1778543999@teaching.cambriancollege.ca
SUMMARY:[External] eCampus Ontario Empowered Educator Program
DESCRIPTION:REGISTER HERE \nThis course runs from May 11-29\, 2026. \nEnhance your teaching with practical\, research‑informed strategies and digital tools to design inclusive and engaging learning experiences. \nLearn more about this micro-credential course.
URL:https://teaching.cambriancollege.ca/event/external-ecampus-ontario-empowered-educator-program/
LOCATION:Join Virtually Online
CATEGORIES:Attend Virtually Online
END:VEVENT
BEGIN:VEVENT
DTSTART;TZID=America/Toronto:20260521T090000
DTEND;TZID=America/Toronto:20260521T160000
DTSTAMP:20260423T165718
CREATED:20260408T125616Z
LAST-MODIFIED:20260408T125812Z
UID:10000491-1779354000-1779379200@teaching.cambriancollege.ca
SUMMARY:[External] 2026 SoTL (Scholarship of Teaching and Learning) Symposium
DESCRIPTION:More than Marks: Understanding Student Learning through SoTL \nREGISTER HERE \nJoin us virtually on Thursday\, May 21\, 2026\, for our annual SoTL Symposium!\nThis year’s theme\, More than Marks: Understanding Student Learning through SoTL\, explores the many ways faculty\, teaching and learning support staff\, and educational researchers are working to better understand and enhance student learning. Grounded in the Scholarship of Teaching and Learning\, the symposium provides an engaging platform to showcase the strategies\, reflective practices\, and inquiry-driven approaches educators are using to create meaningful learning experiences across disciplines. \nThis event is designed to foster connection and collaboration. Accordingly\, the symposium invites participants to share their work\, exchange ideas\, and explore how teaching practices can be refined to support student growth\, engagement\, and success. \nMore details about this event.
URL:https://teaching.cambriancollege.ca/event/external-2026-sotl-scholarship-of-teaching-and-learning-symposium/
LOCATION:Join Virtually Online
CATEGORIES:Attend Virtually Online
END:VEVENT
BEGIN:VEVENT
DTSTART;VALUE=DATE:20260601
DTEND;VALUE=DATE:20260602
DTSTAMP:20260423T165718
CREATED:20260408T130924Z
LAST-MODIFIED:20260408T130924Z
UID:10000493-1780272000-1780358399@teaching.cambriancollege.ca
SUMMARY:[External] eCampus Ontario Mastering Open Ed Program
DESCRIPTION:REGISTER HERE \nThis course runs from June 1- July 17\, 2026. \nBuild practical skills to create\, adapt\, and share open educational resources\, including hands‑on experience with tools such as Pressbooks and H5P. \nLearn more about this micro-credential course.
URL:https://teaching.cambriancollege.ca/event/external-ecampus-ontario-mastering-open-ed-program/
LOCATION:Join Virtually Online
CATEGORIES:Attend Virtually Online
END:VEVENT
END:VCALENDAR