BEGIN:VCALENDAR
VERSION:2.0
PRODID:-//Cambrian College Teaching &amp; Learning Innovation Hub - ECPv6.15.20//NONSGML v1.0//EN
CALSCALE:GREGORIAN
METHOD:PUBLISH
X-ORIGINAL-URL:https://teaching.cambriancollege.ca
X-WR-CALDESC:Events for Cambrian College Teaching &amp; Learning Innovation Hub
REFRESH-INTERVAL;VALUE=DURATION:PT1H
X-Robots-Tag:noindex
X-PUBLISHED-TTL:PT1H
BEGIN:VTIMEZONE
TZID:America/Toronto
BEGIN:DAYLIGHT
TZOFFSETFROM:-0500
TZOFFSETTO:-0400
TZNAME:EDT
DTSTART:20240310T070000
END:DAYLIGHT
BEGIN:STANDARD
TZOFFSETFROM:-0400
TZOFFSETTO:-0500
TZNAME:EST
DTSTART:20241103T060000
END:STANDARD
BEGIN:DAYLIGHT
TZOFFSETFROM:-0500
TZOFFSETTO:-0400
TZNAME:EDT
DTSTART:20250309T070000
END:DAYLIGHT
BEGIN:STANDARD
TZOFFSETFROM:-0400
TZOFFSETTO:-0500
TZNAME:EST
DTSTART:20251102T060000
END:STANDARD
BEGIN:DAYLIGHT
TZOFFSETFROM:-0500
TZOFFSETTO:-0400
TZNAME:EDT
DTSTART:20260308T070000
END:DAYLIGHT
BEGIN:STANDARD
TZOFFSETFROM:-0400
TZOFFSETTO:-0500
TZNAME:EST
DTSTART:20261101T060000
END:STANDARD
END:VTIMEZONE
BEGIN:VEVENT
DTSTART;TZID=America/Toronto:20251126T130000
DTEND;TZID=America/Toronto:20251126T140000
DTSTAMP:20260422T184954
CREATED:20251030T182639Z
LAST-MODIFIED:20251030T182815Z
UID:10000471-1764162000-1764165600@teaching.cambriancollege.ca
SUMMARY:[External] Contact North - Transform Learning for Every Student: How to Use AI to Make Open Education Resources More Accessible and Personalized
DESCRIPTION:  \n  \nREGISTER HERE \nAI is transforming how we create\, adapt and deliver open educational content\, reshaping not only the resources themselves but also how learners engage with them. As education shifts toward greater inclusivity and personalization\, Open Education Resources (OER) play a critical role in ensuring access for all. This webinar explores how educators can harness AI to enhance OER — making them more interactive\, adaptive and responsive to diverse learner needs across contexts\, disciplines and abilities. Participants in this webinar will gain practical strategies to innovate teaching materials while addressing accessibility\, personalization\, equity and quality assurance. They will leave with actionable tools and approaches to ensure OER remain relevant\, high-quality and impactful for students worldwide. \nKey takeaways \n\nTransform static resources into dynamic learning experiences through AI-driven interactivity\, simulations and multimedia content\nPersonalize learning at scale with AI-powered lessons\, quizzes and adaptive scaffolding for diverse learner needs\nBreak down barriers to access using AI translation\, accessibility features for students with disabilities and low-bandwidth deployment strategies\nEnsure quality and build trust with AI-supported fact-checking\, outcome alignment and peer-review systems\nFuture-proof educational content through VR/AR integration\, adaptive pathways and continuous content updates\nNavigate ethical AI use in education by addressing privacy\, fairness and equitable access challenges
URL:https://teaching.cambriancollege.ca/event/external-transform-learning-for-every-student-how-to-use-ai-to-make-open-education-resources-more-accessible-and-personalized/
LOCATION:Join Virtually Online
CATEGORIES:Attend Virtually Online
END:VEVENT
END:VCALENDAR