BEGIN:VCALENDAR
VERSION:2.0
PRODID:-//Cambrian College Teaching &amp; Learning Innovation Hub - ECPv6.15.20//NONSGML v1.0//EN
CALSCALE:GREGORIAN
METHOD:PUBLISH
X-ORIGINAL-URL:https://teaching.cambriancollege.ca
X-WR-CALDESC:Events for Cambrian College Teaching &amp; Learning Innovation Hub
REFRESH-INTERVAL;VALUE=DURATION:PT1H
X-Robots-Tag:noindex
X-PUBLISHED-TTL:PT1H
BEGIN:VTIMEZONE
TZID:America/Toronto
BEGIN:DAYLIGHT
TZOFFSETFROM:-0500
TZOFFSETTO:-0400
TZNAME:EDT
DTSTART:20230312T070000
END:DAYLIGHT
BEGIN:STANDARD
TZOFFSETFROM:-0400
TZOFFSETTO:-0500
TZNAME:EST
DTSTART:20231105T060000
END:STANDARD
BEGIN:DAYLIGHT
TZOFFSETFROM:-0500
TZOFFSETTO:-0400
TZNAME:EDT
DTSTART:20240310T070000
END:DAYLIGHT
BEGIN:STANDARD
TZOFFSETFROM:-0400
TZOFFSETTO:-0500
TZNAME:EST
DTSTART:20241103T060000
END:STANDARD
BEGIN:DAYLIGHT
TZOFFSETFROM:-0500
TZOFFSETTO:-0400
TZNAME:EDT
DTSTART:20250309T070000
END:DAYLIGHT
BEGIN:STANDARD
TZOFFSETFROM:-0400
TZOFFSETTO:-0500
TZNAME:EST
DTSTART:20251102T060000
END:STANDARD
END:VTIMEZONE
BEGIN:VEVENT
DTSTART;TZID=America/Toronto:20241024T090000
DTEND;TZID=America/Toronto:20241024T100000
DTSTAMP:20260423T140649
CREATED:20240306T202354Z
LAST-MODIFIED:20241202T150214Z
UID:10000333-1729760400-1729764000@teaching.cambriancollege.ca
SUMMARY:Math Community of Practice (CoP)
DESCRIPTION:Are you passionate about mathematics education?\nDo you believe in the power of collaboration and continuous learning? \nJoin our new and improved Math CoP! \n\n\nWe’re moving asynchronous with periodic in person session! \nParticipate at your own pace\, on your own schedule.\nOur CoP will use a dedicated Microsoft Teams Channel to share resources and engage in discussions around monthly themes\, while we’ll also be hosting in-person sessions periodically for those who enjoy face-to-face interaction\, with additional opportunities to connect online. \nIn the Math CoP\, you can expect:\n\nA focus on improving math competency for ourselves and our students.\nA collaborative network across departments.\nA space to share experiences\, challenges\, and strategies.\nA supportive community of peers.\n\nWhile we would love to see you in person in the Hub\n(Room 1271-B)\, we also welcome you to join us on Zoom on the 24th!\n\nJoin us on Zoom: cambriancollege.zoom.us/j/97087294834
URL:https://teaching.cambriancollege.ca/event/math-community-of-practice-cop/
LOCATION:FLEX: Hub Classroom 1271B & Virtual on Zoom
CATEGORIES:Attend In-Person,Attend Virtually Online,Communities of Practice
END:VEVENT
BEGIN:VEVENT
DTSTART;TZID=America/Toronto:20241024T100000
DTEND;TZID=America/Toronto:20241024T110000
DTSTAMP:20260423T140649
CREATED:20241002T202631Z
LAST-MODIFIED:20241202T150214Z
UID:10000374-1729764000-1729767600@teaching.cambriancollege.ca
SUMMARY:Trauma-Informed Teaching Community of Practice (CARE-O CoP)
DESCRIPTION:Trauma-Informed Teaching Community of Practice (CARE-O CoP)\nCreate Inclusive\, Empathetic Learning Spaces for Students and Colleagues\nJoin the CARE-O Community of Practice and learn how to support students\, colleagues\, and yourself through trauma-informed teaching strategies. Led by Cynthia Booth\, this community empowers faculty and staff to recognize the impacts of trauma and promote holistic well-being and academic success—without needing to be a trauma expert. \n\nUnderstand the key principles of trauma-informed pedagogy and pedagogies of care\nImplement supportive strategies for both your students and your own mental health\nCreate inclusive\, safe\, and empathetic environments for everyone\nShare and reflect on best practices with fellow members to improve teaching and college culture\n\nWhy attend?\nThis group fosters a collaborative space for educators and staff to learn\, reflect\, and develop strategies to better support the well-being of our campus community. Together\, we can create safer\, more inclusive spaces where students and colleagues thrive. \nMeetings:\nThe CARE-O CoP meets monthly from October through June. \nWhile we would love to see you in person in the Hub (Room 1271-B)\, we also welcome you to join us on Zoom! https://cambriancollege.zoom.us/j/97087294834 \nRegister today!
URL:https://teaching.cambriancollege.ca/event/trauma-informed-teaching-community-of-practice-care-o-cop/
LOCATION:FLEX: Hub Classroom 1271B & Virtual on Zoom
CATEGORIES:Attend In-Person,Attend Virtually Online,Communities of Practice
ORGANIZER;CN="Cynthia Booth":MAILTO:cynthia.booth@cambriancollege.ca
END:VEVENT
END:VCALENDAR