BEGIN:VCALENDAR
VERSION:2.0
PRODID:-//Cambrian College Teaching &amp; Learning Innovation Hub - ECPv6.15.20//NONSGML v1.0//EN
CALSCALE:GREGORIAN
METHOD:PUBLISH
X-ORIGINAL-URL:https://teaching.cambriancollege.ca
X-WR-CALDESC:Events for Cambrian College Teaching &amp; Learning Innovation Hub
REFRESH-INTERVAL;VALUE=DURATION:PT1H
X-Robots-Tag:noindex
X-PUBLISHED-TTL:PT1H
BEGIN:VTIMEZONE
TZID:America/Toronto
BEGIN:DAYLIGHT
TZOFFSETFROM:-0500
TZOFFSETTO:-0400
TZNAME:EDT
DTSTART:20230312T070000
END:DAYLIGHT
BEGIN:STANDARD
TZOFFSETFROM:-0400
TZOFFSETTO:-0500
TZNAME:EST
DTSTART:20231105T060000
END:STANDARD
BEGIN:DAYLIGHT
TZOFFSETFROM:-0500
TZOFFSETTO:-0400
TZNAME:EDT
DTSTART:20240310T070000
END:DAYLIGHT
BEGIN:STANDARD
TZOFFSETFROM:-0400
TZOFFSETTO:-0500
TZNAME:EST
DTSTART:20241103T060000
END:STANDARD
BEGIN:DAYLIGHT
TZOFFSETFROM:-0500
TZOFFSETTO:-0400
TZNAME:EDT
DTSTART:20250309T070000
END:DAYLIGHT
BEGIN:STANDARD
TZOFFSETFROM:-0400
TZOFFSETTO:-0500
TZNAME:EST
DTSTART:20251102T060000
END:STANDARD
END:VTIMEZONE
BEGIN:VEVENT
DTSTART;TZID=America/Toronto:20241023T100000
DTEND;TZID=America/Toronto:20241023T230000
DTSTAMP:20260423T140649
CREATED:20241002T194111Z
LAST-MODIFIED:20241007T185204Z
UID:10000373-1729677600-1729724400@teaching.cambriancollege.ca
SUMMARY:Respondus Campus-Wide: Build Exams with Ease with Rob
DESCRIPTION:Respondus Campus-Wide: Build Exams with Ease\nGeneral Information Session \nLooking to streamline your exam-building process and easily transfer questions from Moodle into Word format? Join us for this information session on Respondus Campus-Wide. \nIn this session\, you’ll learn how to: \n\nBuild and organize exams efficiently using Respondus Campus-Wide\nExport exam questions from Moodle into a Word document format (*great for printing a Moodle exam!*)\nEnhance your test development process with practical tips and best practices\n\nAttendance\nJoin in-person in the Hub Classroom (Room 1271-B) or\nJoin on Zoom: cambriancollege.zoom.us/j/97087294834 \nRegister today!
URL:https://teaching.cambriancollege.ca/event/respondus-campus-wide-build-exams-with-ease-with-rob/
LOCATION:FLEX: Hub Classroom 1271B & Virtual on Zoom
CATEGORIES:Attend In-Person,Attend Virtually Online
ORGANIZER;CN="Rob Comtois":MAILTO:robert.comtois@cambriancollege.ca
END:VEVENT
BEGIN:VEVENT
DTSTART;TZID=America/Toronto:20241023T140000
DTEND;TZID=America/Toronto:20241023T150000
DTSTAMP:20260423T140649
CREATED:20241002T191423Z
LAST-MODIFIED:20241007T185216Z
UID:10000370-1729692000-1729695600@teaching.cambriancollege.ca
SUMMARY:Video Showcase: Engage Students and Save Time
DESCRIPTION:Video Showcase: Engage Students and Save Time\nSee Real Video Examples in Action\nCurious about how to use videos to make your course more dynamic?\nJoin us for the Video Example Showcase\, where Jeff will present real examples of how videos can enhance your course content and engage students. You’ll also have the chance to discuss the examples\, share ideas\, and explore how to apply them to your own teaching. \n\nWatch real video examples on course engagement and time-saving techniques\nLearn editing tips using Zoom\nDiscover how to use a teleprompter for smoother video presentations\nBonus: Learn a fun way to use QR codes to connect to videos!\n\nAttendance\nJoin in-person in the Hub Classroom (Room 1271-B) or\nJoin on Zoom: cambriancollege.zoom.us/j/97087294834 \nRegister today!
URL:https://teaching.cambriancollege.ca/event/video-showcase-engage-students-and-save-time-2/
LOCATION:FLEX: Hub Classroom 1271B & Virtual on Zoom
CATEGORIES:Attend In-Person,Attend Virtually Online
ORGANIZER;CN="Jeff Tranchemontagne":MAILTO:jeffery.tranchemontagne@cambriancollege.ca
END:VEVENT
END:VCALENDAR