BEGIN:VCALENDAR
VERSION:2.0
PRODID:-//Cambrian College Teaching &amp; Learning Innovation Hub - ECPv6.15.20//NONSGML v1.0//EN
CALSCALE:GREGORIAN
METHOD:PUBLISH
X-ORIGINAL-URL:https://teaching.cambriancollege.ca
X-WR-CALDESC:Events for Cambrian College Teaching &amp; Learning Innovation Hub
REFRESH-INTERVAL;VALUE=DURATION:PT1H
X-Robots-Tag:noindex
X-PUBLISHED-TTL:PT1H
BEGIN:VTIMEZONE
TZID:America/Toronto
BEGIN:DAYLIGHT
TZOFFSETFROM:-0500
TZOFFSETTO:-0400
TZNAME:EDT
DTSTART:20240310T070000
END:DAYLIGHT
BEGIN:STANDARD
TZOFFSETFROM:-0400
TZOFFSETTO:-0500
TZNAME:EST
DTSTART:20241103T060000
END:STANDARD
BEGIN:DAYLIGHT
TZOFFSETFROM:-0500
TZOFFSETTO:-0400
TZNAME:EDT
DTSTART:20250309T070000
END:DAYLIGHT
BEGIN:STANDARD
TZOFFSETFROM:-0400
TZOFFSETTO:-0500
TZNAME:EST
DTSTART:20251102T060000
END:STANDARD
BEGIN:DAYLIGHT
TZOFFSETFROM:-0500
TZOFFSETTO:-0400
TZNAME:EDT
DTSTART:20260308T070000
END:DAYLIGHT
BEGIN:STANDARD
TZOFFSETFROM:-0400
TZOFFSETTO:-0500
TZNAME:EST
DTSTART:20261101T060000
END:STANDARD
END:VTIMEZONE
BEGIN:VEVENT
DTSTART;TZID=America/Toronto:20250113T120000
DTEND;TZID=America/Toronto:20250113T130000
DTSTAMP:20260423T085934
CREATED:20241217T164002Z
LAST-MODIFIED:20241217T164002Z
UID:10000392-1736769600-1736773200@teaching.cambriancollege.ca
SUMMARY:[External] Authentic Assessment Unveiled: Practical Insights for Academic Leaders - Hosted in collaboration with eCampusOntario
DESCRIPTION:Join this insightful webinar on the theme of Authentic Assessment\, hosted in collaboration with eCampusOntario. This event is designed to address the growing need for practical solutions and examples in the realm of authentic assessment\, a topic of significant interest among educators. \nKey Highlights  \n\n\n\nHow the platform supports Authentic Assessment strategies.\n\n\n\n\nPractical Solutions and Examples: Learn from experts who have successfully implemented authentic assessment strategies.\nAddressing AI Concerns: Discover methods to mitigate the use of AI in student assignments.\nInteractive Q&A Sessions: Engage with our speakers and get your questions answered.\nResources including case studies for authentic assessment from around the world. Don’t miss this opportunity to gain valuable insights and practical tools to enhance authentic assessment in your institution.\nRegister now and join the conversation!
URL:https://teaching.cambriancollege.ca/event/external-authentic-assessment-unveiled-practical-insights-for-academic-leaders-hosted-in-collaboration-with-ecampusontario/
CATEGORIES:Attend Virtually Online
END:VEVENT
END:VCALENDAR