BEGIN:VCALENDAR
VERSION:2.0
PRODID:-//Cambrian College Teaching &amp; Learning Innovation Hub - ECPv6.15.20//NONSGML v1.0//EN
CALSCALE:GREGORIAN
METHOD:PUBLISH
X-ORIGINAL-URL:https://teaching.cambriancollege.ca
X-WR-CALDESC:Events for Cambrian College Teaching &amp; Learning Innovation Hub
REFRESH-INTERVAL;VALUE=DURATION:PT1H
X-Robots-Tag:noindex
X-PUBLISHED-TTL:PT1H
BEGIN:VTIMEZONE
TZID:America/Toronto
BEGIN:DAYLIGHT
TZOFFSETFROM:-0500
TZOFFSETTO:-0400
TZNAME:EDT
DTSTART:20230312T070000
END:DAYLIGHT
BEGIN:STANDARD
TZOFFSETFROM:-0400
TZOFFSETTO:-0500
TZNAME:EST
DTSTART:20231105T060000
END:STANDARD
BEGIN:DAYLIGHT
TZOFFSETFROM:-0500
TZOFFSETTO:-0400
TZNAME:EDT
DTSTART:20240310T070000
END:DAYLIGHT
BEGIN:STANDARD
TZOFFSETFROM:-0400
TZOFFSETTO:-0500
TZNAME:EST
DTSTART:20241103T060000
END:STANDARD
BEGIN:DAYLIGHT
TZOFFSETFROM:-0500
TZOFFSETTO:-0400
TZNAME:EDT
DTSTART:20250309T070000
END:DAYLIGHT
BEGIN:STANDARD
TZOFFSETFROM:-0400
TZOFFSETTO:-0500
TZNAME:EST
DTSTART:20251102T060000
END:STANDARD
END:VTIMEZONE
BEGIN:VEVENT
DTSTART;TZID=America/Toronto:20240222T110000
DTEND;TZID=America/Toronto:20240222T120000
DTSTAMP:20260423T232124
CREATED:20240205T143730Z
LAST-MODIFIED:20240205T143730Z
UID:10000322-1708599600-1708603200@teaching.cambriancollege.ca
SUMMARY:CDAG Panel Discussion about Experiential Learning [External]
DESCRIPTION:Hosted by the Curriculum Developers Affinity Group (CDAG) \nPlease join us as we discuss different types of Experiential Learning (EL)\, with a focus on Work-Integrated Learning (WIL) experiences. Hear about how our colleagues are providing innovative and authentic learning experiences for their students that improve their employability\, interpersonal skills\, and transition to the workforce. Find out about a WIL Project that is a co-op alternative within a simulated workspace\, as well as a Trauma & Treatment event that could be applied to different disciplines. We welcome you to join us and share your examples! \nZoom Link \nWhat is CDAG? The Curriculum Developers Affinity Group (CDAG) is comprised of members from the Ontario Colleges of Applied Arts and Technology (CAAT) that facilitate collaboration and the exchange of best practices in all matters relating to curriculum across the Ontario college system. Any employee of a CAAT is eligible for free membership to this group!
URL:https://teaching.cambriancollege.ca/event/cdag-panel-discussion-about-experiential-learning-external/
LOCATION:Online
CATEGORIES:Attend Virtually Online
END:VEVENT
END:VCALENDAR